BEGIN:VCALENDAR
VERSION:2.0
PRODID:-//GTS - ECPv6.15.18//NONSGML v1.0//EN
CALSCALE:GREGORIAN
METHOD:PUBLISH
X-WR-CALNAME:GTS
X-ORIGINAL-URL:https://gts-ts.com
X-WR-CALDESC:Events for GTS
REFRESH-INTERVAL;VALUE=DURATION:PT1H
X-Robots-Tag:noindex
X-PUBLISHED-TTL:PT1H
BEGIN:VTIMEZONE
TZID:America/Chicago
BEGIN:DAYLIGHT
TZOFFSETFROM:-0600
TZOFFSETTO:-0500
TZNAME:CDT
DTSTART:20250309T080000
END:DAYLIGHT
BEGIN:STANDARD
TZOFFSETFROM:-0500
TZOFFSETTO:-0600
TZNAME:CST
DTSTART:20251102T070000
END:STANDARD
BEGIN:DAYLIGHT
TZOFFSETFROM:-0600
TZOFFSETTO:-0500
TZNAME:CDT
DTSTART:20260308T080000
END:DAYLIGHT
BEGIN:STANDARD
TZOFFSETFROM:-0500
TZOFFSETTO:-0600
TZNAME:CST
DTSTART:20261101T070000
END:STANDARD
BEGIN:DAYLIGHT
TZOFFSETFROM:-0600
TZOFFSETTO:-0500
TZNAME:CDT
DTSTART:20270314T080000
END:DAYLIGHT
BEGIN:STANDARD
TZOFFSETFROM:-0500
TZOFFSETTO:-0600
TZNAME:CST
DTSTART:20271107T070000
END:STANDARD
END:VTIMEZONE
BEGIN:VEVENT
DTSTART;TZID=America/Chicago:20260501T080000
DTEND;TZID=America/Chicago:20260501T153000
DTSTAMP:20260422T104655
CREATED:20260421T200221Z
LAST-MODIFIED:20260421T200221Z
UID:17900-1777622400-1777649400@gts-ts.com
SUMMARY:Accelerate Texas: Accelerating Digital Government for the Citizens of Texas
DESCRIPTION:Join GTS Technology Solutions\, along with OpenText\, AWS\, Deliotte and SAP for a day of panels\, fireside chats and technical deep dives followed by networking. \nHear from TCOLE\, DPS and Travis County on how they are driving digital transformation in their organizations and across the state. \nAgenda to follow. \n 
URL:https://gts-ts.com/event/acceleratetexas/
LOCATION:GTS Technology Solutions\, 9211 Waterford Centre\, Suite 275\, Austin\, Texas
END:VEVENT
END:VCALENDAR